BEGIN:VCALENDAR
VERSION:2.0
PRODID:-//85.13.156.204//NONSGML kigkonsult.se iCalcreator 2.20//
CALSCALE:GREGORIAN
METHOD:PUBLISH
X-WR-TIMEZONE:Europe/Berlin
BEGIN:VEVENT
UID:event733@www.pssc-dinslaken.de
DTSTAMP:20260419T200040Z
CATEGORIES:Events
DESCRIPTION:Streichen Vorraum PSSC\nKategorie: Events\nICS-Link: https://ps
 sc-dinslaken.de/index.php?option=com_jem&view=event&id=733:streichen-vorra
 um-pssc\n
DTSTART;TZID=Europe/Berlin:20251025T080000
DTEND;TZID=Europe/Berlin:20251026T170000
LOCATION:Eis-Sporthalle Dinslaken\,Am Stadtbad 1\,46537 Dinslaken
SUMMARY:Streichen Vorraum PSSC
URL:https://pssc-dinslaken.de/index.php?option=com_jem&view=event&id=733:st
 reichen-vorraum-pssc
END:VEVENT
END:VCALENDAR