BEGIN:VCALENDAR
VERSION:2.0
PRODID:-//85.13.156.204//NONSGML kigkonsult.se iCalcreator 2.20//
CALSCALE:GREGORIAN
METHOD:PUBLISH
X-WR-TIMEZONE:Europe/Berlin
BEGIN:VEVENT
UID:event1146@www.pssc-dinslaken.de
DTSTAMP:20260421T213334Z
CATEGORIES:Ligawettkämpfe
DESCRIPTION:LWK SpoPi 1 Auflage gegen DJK Lohberg\nKategorie: Ligawettkämpf
 e\nICS-Link: https://pssc-dinslaken.de/index.php?option=com_jem&view=event
 &id=1146:lwk-spopi-1-auflage-gegen-djk-lohberg\n
DTSTART;TZID=Europe/Berlin:20250912T180000
DTEND;TZID=Europe/Berlin:20250912T200000
LOCATION:Eis-Sporthalle Dinslaken\,Am Stadtbad 1\,46537 Dinslaken
SUMMARY:LWK SpoPi 1 Auflage gegen DJK Lohberg
URL:https://pssc-dinslaken.de/index.php?option=com_jem&view=event&id=1146:l
 wk-spopi-1-auflage-gegen-djk-lohberg
END:VEVENT
END:VCALENDAR